BEGIN:VCALENDAR
VERSION:2.0
PRODID:-//SkanDance - ECPv6.2.0.1//NONSGML v1.0//EN
CALSCALE:GREGORIAN
METHOD:PUBLISH
X-WR-CALNAME:SkanDance
X-ORIGINAL-URL:https://skandance.de
X-WR-CALDESC:Veranstaltungen für SkanDance
REFRESH-INTERVAL;VALUE=DURATION:PT1H
X-Robots-Tag:noindex
X-PUBLISHED-TTL:PT1H
BEGIN:VTIMEZONE
TZID:Europe/Berlin
BEGIN:DAYLIGHT
TZOFFSETFROM:+0100
TZOFFSETTO:+0200
TZNAME:CEST
DTSTART:20260329T010000
END:DAYLIGHT
BEGIN:STANDARD
TZOFFSETFROM:+0200
TZOFFSETTO:+0100
TZNAME:CET
DTSTART:20261025T010000
END:STANDARD
END:VTIMEZONE
BEGIN:VEVENT
DTSTART;TZID=Europe/Berlin:20260529T180000
DTEND;TZID=Europe/Berlin:20260531T140000
DTSTAMP:20260424T024715
CREATED:20240430T090821Z
LAST-MODIFIED:20251013T152519Z
UID:8951-1780077600-1780236000@skandance.de
SUMMARY:dance tribe hamburg - das retreat
DESCRIPTION:Gemeinsam mit unserem Hamburger dance tribe verbringen wir ein ganzes Wochenende in ländlicher und kraftvoller Natur und nehmen uns eine AusZeit vom urbanen Alltag. \nZeit\, um uns außerhalb des dancefloors besser kennen zu lernen. Zeit\, das Miteinander in einer wohlwollenden Gemeinschaft zu genießen. Zeit\, unserer uns alle verbindenden Tanzleidenschaft nachzugehen. Zeit\, um zu entspannen und aufzutanken. \nIm wunderschönen Pegasushof am Krummendeicher Elbdeich bieten wir euch mehrere Tanzsessions im Spirit der dance tribe hamburg Abende an. Darüber hinaus wird es einige optionale Tanz- und Bewegungsangebote geben\, die unsere DJs Tanja\, Nina\, Oliver und Nina aus ihrer individuellen Conscious Dance Praxis mitbringen. \nEingebettet in weiter Marschlandschaft lädt der Ort mit seinen großzügigen Gartenanlagen dazu ein\, die Seelen baumeln zu lassen. Für alle Freunde der Sauna gibt es die Möglichkeit\, auch anders als durch Bewegung ins Schwitzen zu kommen. Last but not least wird unser Freund\, Tänzer und begnadeter Koch Lars uns kulinarisch verwöhnen. \nKarten ausschliesslich an der Abendkasse vom dance tribe hamburg. \nWeitere Infos hier.
URL:https://skandance.de/event/dance-tribe-hamburg-das-retreat/
LOCATION:Seminarzentrum Pegasushof\, Krummendeich\, Krummendeich\, Germany
CATEGORIES:SkanDance
ATTACH;FMTTYPE=image/jpeg:https://skandance.de/wp-content/uploads/2024/04/dance-tribe-hamburg-retreat-quer.jpg
ORGANIZER;CN="Nina-Julia%20Schmidt":MAILTO:nina@skandance.de
END:VEVENT
END:VCALENDAR